BEGIN:VCALENDAR
VERSION:2.0
PRODID:-//ESG Korisno - ECPv6.15.14//NONSGML v1.0//EN
CALSCALE:GREGORIAN
METHOD:PUBLISH
X-WR-CALNAME:ESG Korisno
X-ORIGINAL-URL:https://esgkorisno.ba
X-WR-CALDESC:Events for ESG Korisno
REFRESH-INTERVAL;VALUE=DURATION:PT1H
X-Robots-Tag:noindex
X-PUBLISHED-TTL:PT1H
BEGIN:VTIMEZONE
TZID:Europe/Sarajevo
BEGIN:DAYLIGHT
TZOFFSETFROM:+0100
TZOFFSETTO:+0200
TZNAME:CEST
DTSTART:20250330T010000
END:DAYLIGHT
BEGIN:STANDARD
TZOFFSETFROM:+0200
TZOFFSETTO:+0100
TZNAME:CET
DTSTART:20251026T010000
END:STANDARD
BEGIN:DAYLIGHT
TZOFFSETFROM:+0100
TZOFFSETTO:+0200
TZNAME:CEST
DTSTART:20260329T010000
END:DAYLIGHT
BEGIN:STANDARD
TZOFFSETFROM:+0200
TZOFFSETTO:+0100
TZNAME:CET
DTSTART:20261025T010000
END:STANDARD
BEGIN:DAYLIGHT
TZOFFSETFROM:+0100
TZOFFSETTO:+0200
TZNAME:CEST
DTSTART:20270328T010000
END:DAYLIGHT
BEGIN:STANDARD
TZOFFSETFROM:+0200
TZOFFSETTO:+0100
TZNAME:CET
DTSTART:20271031T010000
END:STANDARD
END:VTIMEZONE
BEGIN:VEVENT
DTSTART;TZID=Europe/Sarajevo:20260217T090000
DTEND;TZID=Europe/Sarajevo:20260217T130000
DTSTAMP:20260420T123021
CREATED:20260123T112306Z
LAST-MODIFIED:20260123T112533Z
UID:4792-1771318800-1771333200@esgkorisno.ba
SUMMARY:RE:STYLE radionica
DESCRIPTION:RE:STYLE jedinstvenoj radionici namijenjenoj svima koji žele uložiti u svoje znanje i PROMIJENITI STIL ŽIVOTA…NABOLJE.  \nŠta nudimo?\nČetverosatnu radionicu podijeljenu na dvije tematske oblasti koje se nadopunjuju: \n\no pismenosti na temu održivosti – šta danas znači živjeti i raditi održivo\, kako odluke koje donesemo prilikom kupovine ili odabira posla mijenjaju nas\, naše okruženje i našu planetu\, kako se pripremiti za rad u kompanijama koje njeguju održivo poslovanje\,\no finansijskoj pismenosti – uvod\, osvještavanje i motivacija kako na jednostavan\, realan i primjenjiv način preuzeti kontrolu nad svojim finansijama i svakodnevnim odlukama. Kroz osnovne finansijske pojmove\, praktične alate te razumijevanje banaka\, kredita i štednje\, dobičete jasnu polaznu tačku za mirniji\, stabilniji i svjesniji život.\n\nZa koga? Namijenjena je ljudima koji žele dugoročno upravljati svojim životnim stilom\, za one koji su spremni uložiti 180 KM u svoje znanje koje im ostaje za cijeli život. Broj mjesta je ograničen obzirom da smo planirali 10 učesnika kako bismo svakom pojedinačnom gostu posvetili punu pažnju i pružili maksimalnu vrijednost za uloženi novac. \n00
URL:https://esgkorisno.ba/event/restyle-radionica/
LOCATION:Residence INN by Marriott Sarajevo\, Skenderija 43\, Sarajevo\, Bosnia and Herzegovina
ATTACH;FMTTYPE=image/png:https://esgkorisno.ba/wp-content/uploads/2026/01/WORKSHOP-2025-–-web-–-kopija.png
ORGANIZER;CN="KORISNO doo":MAILTO:esgkorisno@gmail.com
END:VEVENT
BEGIN:VEVENT
DTSTART;VALUE=DATE:20260119
DTEND;VALUE=DATE:20260124
DTSTAMP:20260420T123021
CREATED:20260119T135829Z
LAST-MODIFIED:20260119T141134Z
UID:4779-1768780800-1769212799@esgkorisno.ba
SUMMARY:World Economic Forum Annual Meeting
DESCRIPTION:World leaders from government\, business\, civil society and academia will convene in Davos to engage in forward-looking discussions to address global issues and set priorities. The call for bold collective action makes the meeting particularly relevant. \n00
URL:https://esgkorisno.ba/event/world-economic-forum-annual-meeting/
LOCATION:Davos\, Švicarska\, Davos\, Switzerland
ATTACH;FMTTYPE=image/jpeg:https://esgkorisno.ba/wp-content/uploads/2025/01/ESG-1.jpg
END:VEVENT
END:VCALENDAR